BEGIN:VCALENDAR
VERSION:2.0
CALSCALE:GREGORIAN
PRODID:-//MyApp//Calendar 1.0//EN
BEGIN:VEVENT
METHOD:PUBLISH
UID:63772@regionalniportaly.cz
DTSTAMP:20260422T100502Z
DTSTART;VALUE=DATE:20260227
DTEND;VALUE=DATE:20260228
SUMMARY:Maniak Live  Klatovy
DESCRIPTION:Klatovy se tuhle noc otřesou v základech! Zapiš si do kalendáře\, že suterén v Alcatrazu 27. 2. nenavštíví nikdo jiný než Maniak! &nbsp\;Tenhle brněnský raper ruského původu se postará svými tracky o tu nejlepší noc plnou hudby podle tvého gusta. Tak na co čekáš? Přijď si užít koncert\, kde zazní všechny tvoje oblíbené hity\, rozproudíš energii a získáš jedinečnou možnost tuhle hvězdu české hudební scény slyšet na živo&nbsp\;Vstup 250\,-Otevíráme ve 21:00Koukej dorazit\, o tohle totiž opravdu nechceš přijít!&nbsp\;Support:HIGHOX je jméno\, který reprezentuje real talk\, poctivej boombap i moderní vibe. Český rapper\, co už čtyři roky piluje svůj styl a přináší hudbu přímo ze života – z práce do práce\, ze streetu do studia. Jeho tracky nesou energii každodenní dřiny\, vztahů i vlastních vizí\, ať už jde o syrovej drill/trap nebo klasickej rapovej sound.ENIML&nbsp\;Club Alcatraz odpálí Eniml \,29 na krku\, flow rychlá jak myšlenky po půlnoci.Rap je pro něj všechno.All in. Žádná brzda.Venku má dvě alba .Studio je jeho laboratoř&nbsp\;Sólo vibe. Vinyl energy.Labyrint bars\, co tě stáhnou dovnitř.Jestli víš\, tak víš.Jestli nevíš — 27.2. je ideální čas to zjistit.Přijď si pro energii\, co ti zůstane v hlavě ještě týden.Přijď si zaskákat\, zazpívat\, zažít real rap.&nbsp\;
LOCATION:Klatovy
END:VEVENT
END:VCALENDAR