BEGIN:VCALENDAR
VERSION:2.0
CALSCALE:GREGORIAN
PRODID:-//MyApp//Calendar 1.0//EN
BEGIN:VEVENT
METHOD:PUBLISH
UID:63140@regionalniportaly.cz
DTSTAMP:20260422T100522Z
DTSTART;VALUE=DATE:20260317
DTEND;VALUE=DATE:20260318
SUMMARY:Večer s Janou Švandovou a Pavlem Zedníčkem
DESCRIPTION:Čeká vás večer plný kontrastů a skvělé zábavy! Do jedné talk show usednou dvě legendy českého jeviště a obrazovky: noblesní dáma Jana Švandová a mistr komedie Pavel Zedníček.Pod taktovkou moderátora nahlédneme do zákulisí jejich bohatých kariér. Jana Švandová přinese eleganci a poutavé vzpomínky\, zatímco Pavel Zedníček se postará o salvy smíchu a svůj typický valašský humor.Připravte se na otevřené povídání\, plné energie\, vtipných historek a nečekaných momentů. Zážitek\, na který se nezapomíná!
LOCATION:Hrádek
END:VEVENT
END:VCALENDAR