BEGIN:VCALENDAR
VERSION:2.0
CALSCALE:GREGORIAN
PRODID:-//MyApp//Calendar 1.0//EN
BEGIN:VEVENT
METHOD:PUBLISH
UID:62732@regionalniportaly.cz
DTSTAMP:20260422T084316Z
DTSTART;VALUE=DATE:20260317
DTEND;VALUE=DATE:20260318
SUMMARY:The Young Gods koncert
DESCRIPTION:
LOCATION:Dobřany
END:VEVENT
END:VCALENDAR