BEGIN:VCALENDAR
VERSION:2.0
CALSCALE:GREGORIAN
PRODID:-//MyApp//Calendar 1.0//EN
BEGIN:VEVENT
METHOD:PUBLISH
UID:62499@regionalniportaly.cz
DTSTAMP:20260422T130859Z
DTSTART;VALUE=DATE:20260124
DTEND;VALUE=DATE:20260125
SUMMARY:DnB Night w/ Sofiqa
DESCRIPTION:24/1 DRUM &amp\; BASS NIGHT w/ SOFIQA&nbsp\;Alcatrazu zažijete všechno a tahle noc bude plná DRUM &amp\; BASS! Zastávku si totiž udělá DJka\, která se nebojí rozjet párty ani na festivalu Let It Roll SΩFIφΛ! 🎵😎 Připrav se na akci\, kde si pořádně zadupeš a rozhodně se u toho zapotíš! Tak koukej dorazit užít si noc\, během které se nezastavíš a na kterou nezapomeneš! 🎧Vidíme se ve 21:00 😏Vstup 100\,-
LOCATION:Klatovy
END:VEVENT
END:VCALENDAR