BEGIN:VCALENDAR
VERSION:2.0
CALSCALE:GREGORIAN
PRODID:-//MyApp//Calendar 1.0//EN
BEGIN:VEVENT
METHOD:PUBLISH
UID:61620@regionalniportaly.cz
DTSTAMP:20260422T100432Z
DTSTART;VALUE=DATE:20260325
DTEND;VALUE=DATE:20260326
SUMMARY:Divadelní představení Changewyx
DESCRIPTION:Divadelní představení Changewyx popisuje silný příběh\, kde diváci 3x hlasují o dalším ději.&nbsp\;Představení je vhodné jak pro děti \, studenty tak i dospělé.
LOCATION:Hrádek
END:VEVENT
END:VCALENDAR