BEGIN:VCALENDAR
VERSION:2.0
CALSCALE:GREGORIAN
PRODID:-//MyApp//Calendar 1.0//EN
BEGIN:VEVENT
METHOD:PUBLISH
UID:61032@regionalniportaly.cz
DTSTAMP:20260422T084247Z
DTSTART;VALUE=DATE:20260922
DTEND;VALUE=DATE:20260923
SUMMARY:Sex v šestém patře v Hrádku u Rokycan
DESCRIPTION:Komediální klenot\, který patří k nejosvědčenějším titulům světového repertoáru. Činžovní dům v New Yorku\, tři prakticky totožné byty v šestém patře\, tři na sobě nezávislé příběhy...&nbsp\;&nbsp\;Anebo je to jen zdání – z této nenápadné situace se rodí lavina nedorozumění\, žárlivých scén\, flirtů a pikantních dobrodružství. „Sex v šestém patře“&nbsp\;je hra\, která už desetiletí baví diváky svou lehkostí\, brilantními dialogy a neodolatelným šarmem. Vtipná\, jiskřivá a oddechová podívaná\, která nikdy nezklame – publikum odchází se smíchem a s pocitem\, že život může být plný překvapení.Autorem hry je John Patrick (1905–1995) – jeden z nejvýznamnějších amerických dramatiků a scenáristů 20. století. Jeho dílo získalo nejvyšší ocenění světového filmu i divadla: v roce 1954 obdržel Oscara za nejlepší adaptovaný scénář k filmu „The Teahouse of the August Moon“ (Čajovna Augustového měsíce) a zároveň je držitelem Pulitzerovy ceny. Patrick byl mistrem situační komedie a dialogu\, který v sobě spojuje inteligenci\, ironii i lidskost. „Sex v šestém patře“ patří mezi jeho nejslavnější hry a potvrzuje jeho schopnost psát texty\, které baví široké publikum napříč generacemi.Hrají: Karel Zima\,&nbsp\;Pavel Batěk&nbsp\;a Alžbeta Stanková
LOCATION:Hrádek
END:VEVENT
END:VCALENDAR