BEGIN:VCALENDAR
VERSION:2.0
CALSCALE:GREGORIAN
PRODID:-//MyApp//Calendar 1.0//EN
BEGIN:VEVENT
METHOD:PUBLISH
UID:60566@regionalniportaly.cz
DTSTAMP:20260422T101841Z
DTSTART;VALUE=DATE:20251206
DTEND;VALUE=DATE:20251207
SUMMARY:Fotbalová zábava s Anakondou Bendou
DESCRIPTION:Fotbalový ples 2025Srdečně vás zveme na tradiční Fotbalovou zábavu\, která se uskuteční v sobotu 6.12.2025 od 19:00 v prostorách KD Ledce.Čeká vás večer plný skvělé atmosféry\, kvalitní hudby a zábavy. K tanci i poslechu zahraje Anakonda Benda\, těšit se můžete také na bohatou tombolu\, vystoupení hostů a příjemné občerstvení.Přijďte s námi oslavit sportovní úspěchy i společné chvíle - těšíme se na vás!!!
LOCATION:Ledce
END:VEVENT
END:VCALENDAR