BEGIN:VCALENDAR
VERSION:2.0
CALSCALE:GREGORIAN
PRODID:-//MyApp//Calendar 1.0//EN
BEGIN:VEVENT
METHOD:PUBLISH
UID:60274@regionalniportaly.cz
DTSTAMP:20260422T064912Z
DTSTART;VALUE=DATE:20251204
DTEND;VALUE=DATE:20251205
SUMMARY:Der Šenster Gob + Kamuflon
DESCRIPTION:Pražská kapela Der Šenster Gob přiveze do Falconu směs romské\, židovské a východoevropské hudby s prvky jazzu a gypsy swingu. Na pódiu je doplní klatovská legenda Kamuflon.
LOCATION:Klatovy
END:VEVENT
END:VCALENDAR