BEGIN:VCALENDAR
VERSION:2.0
CALSCALE:GREGORIAN
PRODID:-//MyApp//Calendar 1.0//EN
BEGIN:VEVENT
METHOD:PUBLISH
UID:60272@regionalniportaly.cz
DTSTAMP:20260422T101719Z
DTSTART;VALUE=DATE:20251128
DTEND;VALUE=DATE:20251129
SUMMARY:Záviš & Bavr Beer Control & Adolpho
DESCRIPTION:Legendární kytarista\, písničkář a mistr sprosťáren ZÁVIŠ dorazí do KD Záluží v Třemošné! Spolu s ním vystoupí AdoplHo tramp a Bavr Beer Control.
LOCATION:Třemošná
END:VEVENT
END:VCALENDAR