BEGIN:VCALENDAR
VERSION:2.0
CALSCALE:GREGORIAN
PRODID:-//MyApp//Calendar 1.0//EN
BEGIN:VEVENT
METHOD:PUBLISH
UID:56297@regionalniportaly.cz
DTSTAMP:20260422T084435Z
DTSTART;VALUE=DATE:20250926
DTEND;VALUE=DATE:20250928
SUMMARY:MUDr. Helena Máslová: třídenní seminář Proměny ženy
DESCRIPTION:MUDr. Helena Máslová vystudovala Univerzitu Karlovu v Praze\, lékařskou fakultu. Pracovala na gynekologicko-porodnickém oddělení\, na lůžkovém interním oddělení i v léčebně dlouhodobě nemocných. Zkušenosti z praxe ji přivedly k psychosomatické medicíně\, k celostnímu pohledu na léčení a posléze k založení Centra psychosomatické péče. Věnuje se zejména psychogynekologii\, ženskému zdraví a reprodukci z pohledu psychosomatických souvislostí. Její přednášky vyhledávají páry\, ženy i muži. Sama je matkou 3 dětí. Lékařka Helena Máslová se nebojí říci svůj názor. Kritikou úrovně českého porodnictví a nadužívání hormonální antikoncepce jde mnohdy hlavou proti zdi\, ale umlčet se nenechává. Napsala čtenáři i kritiky uznávanou knihu Plodnost a v současné době připravuje další titul Babí léto.Intenzivní 3denní seminář je určený pro zájemce o téma „PROMĚNY ŽENY“ aneb „Jak si užít menopauzu\, výhody a otazníky kolem proměny\, přechodu ženy“. Po konzultaci s Helenou můžeme seminář doporučit i mladším ženám nebo naopak ženám\, které mohou informace potřebovat pro svoje děti\, vnučky\, kamarády a menopauzu mají již za sebou.&nbsp\;Cena: 3900 Kč za 3 dny nebo 7000 Kč při platbě za 2 ženy&nbsp\;Termín: pátek až neděle 26.9 - 28.9.2025Pátek 26.9. (4 hodiny: 16.00 - 20.00)\, sobota 27.9. (10 hodin: 10.00 - 20.00)\, neděle 28.9. (7 hodin: 10.00 - 16.00)Celkový počet hodin 21. Večer po seminárním dni neformální posezení v kruhu žen. V jednání je možnost společné večerní sauny&nbsp\;(celý seminář je pouze dámská jízda).Místo konání: Zahrada u jezera\, Klášter\, Plzeň-jih (blízko Nepomuka - adresu dostanou přihlášené do kurzu)Pro cestovatelky vlakem do Nepomuka: vyzvedneme vás na nádraží.Pro majitelky obytného auta: parkování na zahradě je po dobu konání semináře možné zdarma.Pro ty\, které dávají přednost pensionu: ubytování vám rádi pomůžeme zajistit.&nbsp\;Pozor: seminář je pro maximálně 22 žen\, prosím\, neodkládejte svoji přihlášku.&nbsp\;Mediální partner Cesty poznání: Český rozhlas Plzeň. Děkujeme.Rozhovor: HELENA MÁSLOVÁ: Vždycky to někde uteče (marianne.cz)&nbsp\;
LOCATION:Klášter
END:VEVENT
END:VCALENDAR