BEGIN:VCALENDAR
VERSION:2.0
CALSCALE:GREGORIAN
PRODID:-//MyApp//Calendar 1.0//EN
BEGIN:VEVENT
METHOD:PUBLISH
UID:53631@regionalniportaly.cz
DTSTAMP:20260422T084129Z
DTSTART;VALUE=DATE:20250622
DTEND;VALUE=DATE:20250623
SUMMARY:Pohádková stezka /  KLATOVY
DESCRIPTION:🌟 Nejoblíbenější Týnky pohádková stezka míří do Klatov! 🌟Potkejte své oblíbené pohádkové kamarády! 🎉Na trase Vás čekají zábavné úkoly pro děti\, ale také Vaši oblíbení pohádkoví kamarádi – třeba z Tlapkové patroly\, Ledového království\, Máši a medvěda\, králíčka Binga a mnoha dalších kamarádů\, které vaše děti zbožňují.Nenechte si ujít tento jedinečný pohádkový zážitek s Vašimi dětmi.👧 Vhodné pro děti ve věku 2–7 let📅 Datum: 22. 06. 2025⏰ Čas: Najdete na své zakoupené vstupence📍 Místo: Mercandinovy sady\, Klatovy🚩 Start: https://en.mapy.cz/s/javudetado👶 Děti do 12 měsíců mají vstup ZDARMAPři příchodu se prosím zaregistrujte ve stánku. 🎪&nbsp\;🚨 POZOR\, POZOR! 🚨Poslední start pohádkové stezky je ve&nbsp\;12:30–12:40Po tomto čase již&nbsp\;nebude možné vstoupit na trasu\, dorazte včas! ⏰
LOCATION:Klatovy
END:VEVENT
END:VCALENDAR