BEGIN:VCALENDAR
VERSION:2.0
CALSCALE:GREGORIAN
PRODID:-//MyApp//Calendar 1.0//EN
BEGIN:VEVENT
METHOD:PUBLISH
UID:53095@regionalniportaly.cz
DTSTAMP:20260422T084413Z
DTSTART;VALUE=DATE:20250606
DTEND;VALUE=DATE:20250607
SUMMARY:Na hradě s Petrem Nárožným
DESCRIPTION:Zažijte nezapomenutelný kulturní večer na Hradě Švihov! Legendární herec Petr Nárožný zavítá do těchto historických prostor\, aby se v talkshow s Jiřím Vaníčkem podělil o své životní a profesní zkušenosti. Nechte se okouzlit spojením výjimečné osobnosti a magické atmosféry hradu. Přijďte si poslechnout poutavé vyprávění\, plné humoru a moudrosti\, v jedinečném prostředí\, které umocní celý zážitek.
LOCATION:Švihov
END:VEVENT
END:VCALENDAR