BEGIN:VCALENDAR
VERSION:2.0
CALSCALE:GREGORIAN
PRODID:-//MyApp//Calendar 1.0//EN
BEGIN:VEVENT
METHOD:PUBLISH
UID:52194@regionalniportaly.cz
DTSTAMP:20260422T065726Z
DTSTART;VALUE=DATE:20250428
DTEND;VALUE=DATE:20250429
SUMMARY:Bez hvězdy to nepůjde v Hrádku u Rokycan
DESCRIPTION:Hudební komediální show s Danielem HůlkouDen D je tady! V divadle se chystá velkolepý koncert Daniela Hůlky s hvězdnou pěveckou partnerkou\, ale osud má jiné plány… Jedna z hlavních hvězd nepřijela! Zrušení představení už není možné a panika roste – kdo teď nahradí chybějící umělce?Naštěstí je tu pohotový divadelní personál\, který se rozhodne vzít situaci do vlastních rukou. Převleky\, improvizace a bláznivé nápady – vše je dovoleno\, aby Daniel Hůlka nic nepoznal a show mohla pokračovat!&nbsp\;Výsledek? Jedinečný večer plný humoru\, nečekaných situací a hlavně nezapomenutelných hudebních čísel. Uslyšíte nejen ikonické písně Daniela Hůlky\, ale i mnohá další překvapení. Přijďte se pobavit na koncertně-divadelní taškařici\, kde je jisté jen jedno: Bez hvězdy to nepůjde… nebo ano?Hrají: Daniel Hůlka a soubor Docela velkého divadla v Litvínově
LOCATION:Hrádek
END:VEVENT
END:VCALENDAR