BEGIN:VCALENDAR
VERSION:2.0
CALSCALE:GREGORIAN
PRODID:-//MyApp//Calendar 1.0//EN
BEGIN:VEVENT
METHOD:PUBLISH
UID:52165@regionalniportaly.cz
DTSTAMP:20260422T100442Z
DTSTART;VALUE=DATE:20250607
DTEND;VALUE=DATE:20250608
SUMMARY:Near Death Experience Fest
DESCRIPTION:Připravte se na temný hudební zážitek\, jaký tu ještě nebyl! Na hradě Buzice ožije undergroundová atmosféra plná tvrdých riffů\, dunivých bubnů a temných melodií.Smrt čeká:• Jedinečný line-up plný death\, black a trash metalových kapel.• Mrazivá atmosféra staré hradní zříceniny.• Prostor pro fanoušky\, parking\, stanování na keltském pohřebišti.&nbsp\;!!! FREE kemp + parking v těsné blízkosti hradu !!!&nbsp\;Kapely:Armada\,&nbsp\;Fleshless\, Lahar\, Doupov\, Bohemyst\, Megelnyk\, Morous\, Kaosquad\, Libido Challenge\, Vraah.&nbsp\;Přijďte zažít\, co znamená opravdová temnota!
LOCATION:Buzice
END:VEVENT
END:VCALENDAR