BEGIN:VCALENDAR
VERSION:2.0
CALSCALE:GREGORIAN
PRODID:-//MyApp//Calendar 1.0//EN
BEGIN:VEVENT
METHOD:PUBLISH
UID:48292@regionalniportaly.cz
DTSTAMP:20260422T130830Z
DTSTART;VALUE=DATE:20250321
DTEND;VALUE=DATE:20250322
SUMMARY:Když kočky nejsou doma v Horažďovicích
DESCRIPTION:Vynikající anglická komedie o tom\, co všechno se může stát\, když dvě sestry nenadále odjedou na společnou dovolenou a jejich muži zůstanou v Londýně bez dozoru. Pokus o celkem nevinný zálet se dvěma švagrům změní v nečekané dobrodružství plné napětí\, humoru a překvapivých zvratů ohrožujících celou jejich další existenci. Příběh dvou sester\, které si vzaly ty nepravé muže přijíždí k Vám!Hrají: Lukáš Vaculík\, Roman Štolpa\, Hana Sršňová\, Jana Galinová\, Jaroslava Zimová\, Lenka Lavičková / Lucie Randáková
LOCATION:Horažďovice
END:VEVENT
END:VCALENDAR