BEGIN:VCALENDAR
VERSION:2.0
CALSCALE:GREGORIAN
PRODID:-//MyApp//Calendar 1.0//EN
BEGIN:VEVENT
METHOD:PUBLISH
UID:48241@regionalniportaly.cz
DTSTAMP:20260422T064718Z
DTSTART;VALUE=DATE:20250425
DTEND;VALUE=DATE:20250426
SUMMARY:Pokáč - Vesnice Tour 2025
DESCRIPTION:Hrát ve velkejch měst v obřích halách umí každej\, ale kdy naposled dorazila Billie Eilish do kulturáku v Dvorci u Nepomuku? Nebojte\, já vemu do jedný ruky kytaru\, do druhý kočku a dorazim za váma.Po každým koncertě bude navíc autogramiáda a vesnická tancovačka s nefalšovaným diskžokejem\, tak doražte\, těšim se moc!
LOCATION:Nepomuk
END:VEVENT
END:VCALENDAR