BEGIN:VCALENDAR
VERSION:2.0
CALSCALE:GREGORIAN
PRODID:-//MyApp//Calendar 1.0//EN
BEGIN:VEVENT
METHOD:PUBLISH
UID:47435@regionalniportaly.cz
DTSTAMP:20260422T145155Z
DTSTART;VALUE=DATE:20241130
DTEND;VALUE=DATE:20241201
SUMMARY:KRAMPUSlauf Klatovy
DESCRIPTION:Největší Čertovská SHOW na Západě s téměř stovkou pravých&nbsp\;rakouských&nbsp\;čertů!Není to ale jen průvod čertů ale ucelený vánoční progrram. Pojďte s námi cestovat v čase a připomeňte si s námi kouzlo Vánoc. Dobu kdy se dětem strachy tají dech\, ale i plní nejtajnější přání a dějí&nbsp\;zázraky.Společně s Mikulášem prožijte Vánoční příběh i strach z příchodu mocností pekelných. Jste-li hodní\, bát se nemusíte\, ale pokud Vaše duše není čistá jak okvětí bílé lilie\, ztrestá Vás&nbsp\;mocí pekelnou téměř stovky&nbsp\;rakouských čertů.Ve více než&nbsp\;tříhodinovém programu se můžete těšit na kapelu TRAUTENBERK\, na vánoční pěvecká i taneční vystoupení\, laserovou show\, ohnivé kejklíře\, ohňostroj a zlatým hřebem programu bude běsnění 90 pravých rakouských čertů.Vyhraje i letos dobro nad zlem? Nebo se Klatovy ponoří do věčné temnoty?Přijďte se s&nbsp\;námi krásně bát i vánočně naladit.
LOCATION:Klatovy
END:VEVENT
END:VCALENDAR